BEGIN:VCALENDAR
VERSION:2.0
BEGIN:VEVENT
UID:58178625-8624-4515-5451-000000010153
SUMMARY:Schadstoffe S2 (14-16 Uhr)
DESCRIPTION;ENCODING=QUOTED-PRINTABLE:Schadstoffe S2 (14-16 Uhr) ist eine Regelabfuhr, eine Anmeldung ist nicht erforderlich.
DTSTART:20260507
DTEND:20260508
END:VEVENT
BEGIN:VEVENT
UID:58178625-8624-4515-5451-000000010154
SUMMARY:Schadstoffe S2 (14-16 Uhr)
DESCRIPTION;ENCODING=QUOTED-PRINTABLE:Schadstoffe S2 (14-16 Uhr) ist eine Regelabfuhr, eine Anmeldung ist nicht erforderlich.
DTSTART:20260903
DTEND:20260904
END:VEVENT
BEGIN:VEVENT
UID:58178625-8624-4515-5451-000000010693
SUMMARY:Bioabfälle
DESCRIPTION;ENCODING=QUOTED-PRINTABLE:Bioabfälle ist eine Regelabfuhr, eine Anmeldung ist nicht erforderlich.
DTSTART:20260424
DTEND:20260425
END:VEVENT
BEGIN:VEVENT
UID:58178625-8624-4515-5451-000000010694
SUMMARY:Bioabfälle
DESCRIPTION;ENCODING=QUOTED-PRINTABLE:Bioabfälle ist eine Regelabfuhr, eine Anmeldung ist nicht erforderlich.
DTSTART:20260508
DTEND:20260509
END:VEVENT
BEGIN:VEVENT
UID:58178625-8624-4515-5451-000000010695
SUMMARY:Bioabfälle
DESCRIPTION;ENCODING=QUOTED-PRINTABLE:Bioabfälle ist eine Regelabfuhr, eine Anmeldung ist nicht erforderlich.
DTSTART:20260516
DTEND:20260517
END:VEVENT
BEGIN:VEVENT
UID:58178625-8624-4515-5451-000000010696
SUMMARY:Bioabfälle
DESCRIPTION;ENCODING=QUOTED-PRINTABLE:Bioabfälle ist eine Regelabfuhr, eine Anmeldung ist nicht erforderlich.
DTSTART:20260522
DTEND:20260523
END:VEVENT
BEGIN:VEVENT
UID:58178625-8624-4515-5451-000000010697
SUMMARY:Bioabfälle
DESCRIPTION;ENCODING=QUOTED-PRINTABLE:Bioabfälle ist eine Regelabfuhr, eine Anmeldung ist nicht erforderlich.
DTSTART:20260530
DTEND:20260531
END:VEVENT
BEGIN:VEVENT
UID:58178625-8624-4515-5451-000000010698
SUMMARY:Bioabfälle
DESCRIPTION;ENCODING=QUOTED-PRINTABLE:Bioabfälle ist eine Regelabfuhr, eine Anmeldung ist nicht erforderlich.
DTSTART:20260606
DTEND:20260607
END:VEVENT
BEGIN:VEVENT
UID:58178625-8624-4515-5451-000000010699
SUMMARY:Bioabfälle
DESCRIPTION;ENCODING=QUOTED-PRINTABLE:Bioabfälle ist eine Regelabfuhr, eine Anmeldung ist nicht erforderlich.
DTSTART:20260612
DTEND:20260613
END:VEVENT
BEGIN:VEVENT
UID:58178625-8624-4515-5451-000000010700
SUMMARY:Bioabfälle
DESCRIPTION;ENCODING=QUOTED-PRINTABLE:Bioabfälle ist eine Regelabfuhr, eine Anmeldung ist nicht erforderlich.
DTSTART:20260619
DTEND:20260620
END:VEVENT
BEGIN:VEVENT
UID:58178625-8624-4515-5451-000000010701
SUMMARY:Bioabfälle
DESCRIPTION;ENCODING=QUOTED-PRINTABLE:Bioabfälle ist eine Regelabfuhr, eine Anmeldung ist nicht erforderlich.
DTSTART:20260626
DTEND:20260627
END:VEVENT
BEGIN:VEVENT
UID:58178625-8624-4515-5451-000000010702
SUMMARY:Bioabfälle
DESCRIPTION;ENCODING=QUOTED-PRINTABLE:Bioabfälle ist eine Regelabfuhr, eine Anmeldung ist nicht erforderlich.
DTSTART:20260703
DTEND:20260704
END:VEVENT
BEGIN:VEVENT
UID:58178625-8624-4515-5451-000000010703
SUMMARY:Bioabfälle
DESCRIPTION;ENCODING=QUOTED-PRINTABLE:Bioabfälle ist eine Regelabfuhr, eine Anmeldung ist nicht erforderlich.
DTSTART:20260710
DTEND:20260711
END:VEVENT
BEGIN:VEVENT
UID:58178625-8624-4515-5451-000000010704
SUMMARY:Bioabfälle
DESCRIPTION;ENCODING=QUOTED-PRINTABLE:Bioabfälle ist eine Regelabfuhr, eine Anmeldung ist nicht erforderlich.
DTSTART:20260717
DTEND:20260718
END:VEVENT
BEGIN:VEVENT
UID:58178625-8624-4515-5451-000000010705
SUMMARY:Bioabfälle
DESCRIPTION;ENCODING=QUOTED-PRINTABLE:Bioabfälle ist eine Regelabfuhr, eine Anmeldung ist nicht erforderlich.
DTSTART:20260724
DTEND:20260725
END:VEVENT
BEGIN:VEVENT
UID:58178625-8624-4515-5451-000000010706
SUMMARY:Bioabfälle
DESCRIPTION;ENCODING=QUOTED-PRINTABLE:Bioabfälle ist eine Regelabfuhr, eine Anmeldung ist nicht erforderlich.
DTSTART:20260731
DTEND:20260801
END:VEVENT
BEGIN:VEVENT
UID:58178625-8624-4515-5451-000000010707
SUMMARY:Bioabfälle
DESCRIPTION;ENCODING=QUOTED-PRINTABLE:Bioabfälle ist eine Regelabfuhr, eine Anmeldung ist nicht erforderlich.
DTSTART:20260807
DTEND:20260808
END:VEVENT
BEGIN:VEVENT
UID:58178625-8624-4515-5451-000000010708
SUMMARY:Bioabfälle
DESCRIPTION;ENCODING=QUOTED-PRINTABLE:Bioabfälle ist eine Regelabfuhr, eine Anmeldung ist nicht erforderlich.
DTSTART:20260814
DTEND:20260815
END:VEVENT
BEGIN:VEVENT
UID:58178625-8624-4515-5451-000000010709
SUMMARY:Bioabfälle
DESCRIPTION;ENCODING=QUOTED-PRINTABLE:Bioabfälle ist eine Regelabfuhr, eine Anmeldung ist nicht erforderlich.
DTSTART:20260821
DTEND:20260822
END:VEVENT
BEGIN:VEVENT
UID:58178625-8624-4515-5451-000000010710
SUMMARY:Bioabfälle
DESCRIPTION;ENCODING=QUOTED-PRINTABLE:Bioabfälle ist eine Regelabfuhr, eine Anmeldung ist nicht erforderlich.
DTSTART:20260828
DTEND:20260829
END:VEVENT
BEGIN:VEVENT
UID:58178625-8624-4515-5451-000000010711
SUMMARY:Bioabfälle
DESCRIPTION;ENCODING=QUOTED-PRINTABLE:Bioabfälle ist eine Regelabfuhr, eine Anmeldung ist nicht erforderlich.
DTSTART:20260904
DTEND:20260905
END:VEVENT
BEGIN:VEVENT
UID:58178625-8624-4515-5451-000000010712
SUMMARY:Bioabfälle
DESCRIPTION;ENCODING=QUOTED-PRINTABLE:Bioabfälle ist eine Regelabfuhr, eine Anmeldung ist nicht erforderlich.
DTSTART:20260911
DTEND:20260912
END:VEVENT
BEGIN:VEVENT
UID:58178625-8624-4515-5451-000000010713
SUMMARY:Bioabfälle
DESCRIPTION;ENCODING=QUOTED-PRINTABLE:Bioabfälle ist eine Regelabfuhr, eine Anmeldung ist nicht erforderlich.
DTSTART:20260918
DTEND:20260919
END:VEVENT
BEGIN:VEVENT
UID:58178625-8624-4515-5451-000000010714
SUMMARY:Bioabfälle
DESCRIPTION;ENCODING=QUOTED-PRINTABLE:Bioabfälle ist eine Regelabfuhr, eine Anmeldung ist nicht erforderlich.
DTSTART:20260925
DTEND:20260926
END:VEVENT
BEGIN:VEVENT
UID:58178625-8624-4515-5451-000000010715
SUMMARY:Bioabfälle
DESCRIPTION;ENCODING=QUOTED-PRINTABLE:Bioabfälle ist eine Regelabfuhr, eine Anmeldung ist nicht erforderlich.
DTSTART:20261002
DTEND:20261003
END:VEVENT
BEGIN:VEVENT
UID:58178625-8624-4515-5451-000000010716
SUMMARY:Bioabfälle
DESCRIPTION;ENCODING=QUOTED-PRINTABLE:Bioabfälle ist eine Regelabfuhr, eine Anmeldung ist nicht erforderlich.
DTSTART:20261009
DTEND:20261010
END:VEVENT
BEGIN:VEVENT
UID:58178625-8624-4515-5451-000000010717
SUMMARY:Bioabfälle
DESCRIPTION;ENCODING=QUOTED-PRINTABLE:Bioabfälle ist eine Regelabfuhr, eine Anmeldung ist nicht erforderlich.
DTSTART:20261023
DTEND:20261024
END:VEVENT
BEGIN:VEVENT
UID:58178625-8624-4515-5451-000000010718
SUMMARY:Bioabfälle
DESCRIPTION;ENCODING=QUOTED-PRINTABLE:Bioabfälle ist eine Regelabfuhr, eine Anmeldung ist nicht erforderlich.
DTSTART:20261106
DTEND:20261107
END:VEVENT
BEGIN:VEVENT
UID:58178625-8624-4515-5451-000000010719
SUMMARY:Bioabfälle
DESCRIPTION;ENCODING=QUOTED-PRINTABLE:Bioabfälle ist eine Regelabfuhr, eine Anmeldung ist nicht erforderlich.
DTSTART:20261120
DTEND:20261121
END:VEVENT
BEGIN:VEVENT
UID:58178625-8624-4515-5451-000000010720
SUMMARY:Bioabfälle
DESCRIPTION;ENCODING=QUOTED-PRINTABLE:Bioabfälle ist eine Regelabfuhr, eine Anmeldung ist nicht erforderlich.
DTSTART:20261204
DTEND:20261205
END:VEVENT
BEGIN:VEVENT
UID:58178625-8624-4515-5451-000000010721
SUMMARY:Bioabfälle
DESCRIPTION;ENCODING=QUOTED-PRINTABLE:Bioabfälle ist eine Regelabfuhr, eine Anmeldung ist nicht erforderlich.
DTSTART:20261218
DTEND:20261219
END:VEVENT
BEGIN:VEVENT
UID:58178625-8624-4515-5451-000000010217
SUMMARY:Restabfälle
DESCRIPTION;ENCODING=QUOTED-PRINTABLE:Restabfälle ist eine Regelabfuhr, eine Anmeldung ist nicht erforderlich.
DTSTART:20260428
DTEND:20260429
END:VEVENT
BEGIN:VEVENT
UID:58178625-8624-4515-5451-000000010218
SUMMARY:Restabfälle
DESCRIPTION;ENCODING=QUOTED-PRINTABLE:Restabfälle ist eine Regelabfuhr, eine Anmeldung ist nicht erforderlich.
DTSTART:20260527
DTEND:20260528
END:VEVENT
BEGIN:VEVENT
UID:58178625-8624-4515-5451-000000010219
SUMMARY:Restabfälle
DESCRIPTION;ENCODING=QUOTED-PRINTABLE:Restabfälle ist eine Regelabfuhr, eine Anmeldung ist nicht erforderlich.
DTSTART:20260623
DTEND:20260624
END:VEVENT
BEGIN:VEVENT
UID:58178625-8624-4515-5451-000000010220
SUMMARY:Restabfälle
DESCRIPTION;ENCODING=QUOTED-PRINTABLE:Restabfälle ist eine Regelabfuhr, eine Anmeldung ist nicht erforderlich.
DTSTART:20260721
DTEND:20260722
END:VEVENT
BEGIN:VEVENT
UID:58178625-8624-4515-5451-000000010221
SUMMARY:Restabfälle
DESCRIPTION;ENCODING=QUOTED-PRINTABLE:Restabfälle ist eine Regelabfuhr, eine Anmeldung ist nicht erforderlich.
DTSTART:20260818
DTEND:20260819
END:VEVENT
BEGIN:VEVENT
UID:58178625-8624-4515-5451-000000010222
SUMMARY:Restabfälle
DESCRIPTION;ENCODING=QUOTED-PRINTABLE:Restabfälle ist eine Regelabfuhr, eine Anmeldung ist nicht erforderlich.
DTSTART:20260915
DTEND:20260916
END:VEVENT
BEGIN:VEVENT
UID:58178625-8624-4515-5451-000000010223
SUMMARY:Restabfälle
DESCRIPTION;ENCODING=QUOTED-PRINTABLE:Restabfälle ist eine Regelabfuhr, eine Anmeldung ist nicht erforderlich.
DTSTART:20261013
DTEND:20261014
END:VEVENT
BEGIN:VEVENT
UID:58178625-8624-4515-5451-000000010224
SUMMARY:Restabfälle
DESCRIPTION;ENCODING=QUOTED-PRINTABLE:Restabfälle ist eine Regelabfuhr, eine Anmeldung ist nicht erforderlich.
DTSTART:20261110
DTEND:20261111
END:VEVENT
BEGIN:VEVENT
UID:58178625-8624-4515-5451-000000010225
SUMMARY:Restabfälle
DESCRIPTION;ENCODING=QUOTED-PRINTABLE:Restabfälle ist eine Regelabfuhr, eine Anmeldung ist nicht erforderlich.
DTSTART:20261208
DTEND:20261209
END:VEVENT
BEGIN:VEVENT
UID:58178625-8624-4515-5451-000000010481
SUMMARY:DSD/gelber Sack/Tonne
DESCRIPTION;ENCODING=QUOTED-PRINTABLE:DSD/gelber Sack/Tonne ist eine Regelabfuhr, eine Anmeldung ist nicht erforderlich.
DTSTART:20260421
DTEND:20260422
END:VEVENT
BEGIN:VEVENT
UID:58178625-8624-4515-5451-000000010482
SUMMARY:DSD/gelber Sack/Tonne
DESCRIPTION;ENCODING=QUOTED-PRINTABLE:DSD/gelber Sack/Tonne ist eine Regelabfuhr, eine Anmeldung ist nicht erforderlich.
DTSTART:20260505
DTEND:20260506
END:VEVENT
BEGIN:VEVENT
UID:58178625-8624-4515-5451-000000010483
SUMMARY:DSD/gelber Sack/Tonne
DESCRIPTION;ENCODING=QUOTED-PRINTABLE:DSD/gelber Sack/Tonne ist eine Regelabfuhr, eine Anmeldung ist nicht erforderlich.
DTSTART:20260519
DTEND:20260520
END:VEVENT
BEGIN:VEVENT
UID:58178625-8624-4515-5451-000000010484
SUMMARY:DSD/gelber Sack/Tonne
DESCRIPTION;ENCODING=QUOTED-PRINTABLE:DSD/gelber Sack/Tonne ist eine Regelabfuhr, eine Anmeldung ist nicht erforderlich.
DTSTART:20260602
DTEND:20260603
END:VEVENT
BEGIN:VEVENT
UID:58178625-8624-4515-5451-000000010485
SUMMARY:DSD/gelber Sack/Tonne
DESCRIPTION;ENCODING=QUOTED-PRINTABLE:DSD/gelber Sack/Tonne ist eine Regelabfuhr, eine Anmeldung ist nicht erforderlich.
DTSTART:20260616
DTEND:20260617
END:VEVENT
BEGIN:VEVENT
UID:58178625-8624-4515-5451-000000010486
SUMMARY:DSD/gelber Sack/Tonne
DESCRIPTION;ENCODING=QUOTED-PRINTABLE:DSD/gelber Sack/Tonne ist eine Regelabfuhr, eine Anmeldung ist nicht erforderlich.
DTSTART:20260630
DTEND:20260701
END:VEVENT
BEGIN:VEVENT
UID:58178625-8624-4515-5451-000000010487
SUMMARY:DSD/gelber Sack/Tonne
DESCRIPTION;ENCODING=QUOTED-PRINTABLE:DSD/gelber Sack/Tonne ist eine Regelabfuhr, eine Anmeldung ist nicht erforderlich.
DTSTART:20260714
DTEND:20260715
END:VEVENT
BEGIN:VEVENT
UID:58178625-8624-4515-5451-000000010488
SUMMARY:DSD/gelber Sack/Tonne
DESCRIPTION;ENCODING=QUOTED-PRINTABLE:DSD/gelber Sack/Tonne ist eine Regelabfuhr, eine Anmeldung ist nicht erforderlich.
DTSTART:20260728
DTEND:20260729
END:VEVENT
BEGIN:VEVENT
UID:58178625-8624-4515-5451-000000010489
SUMMARY:DSD/gelber Sack/Tonne
DESCRIPTION;ENCODING=QUOTED-PRINTABLE:DSD/gelber Sack/Tonne ist eine Regelabfuhr, eine Anmeldung ist nicht erforderlich.
DTSTART:20260811
DTEND:20260812
END:VEVENT
BEGIN:VEVENT
UID:58178625-8624-4515-5451-000000010490
SUMMARY:DSD/gelber Sack/Tonne
DESCRIPTION;ENCODING=QUOTED-PRINTABLE:DSD/gelber Sack/Tonne ist eine Regelabfuhr, eine Anmeldung ist nicht erforderlich.
DTSTART:20260825
DTEND:20260826
END:VEVENT
BEGIN:VEVENT
UID:58178625-8624-4515-5451-000000010491
SUMMARY:DSD/gelber Sack/Tonne
DESCRIPTION;ENCODING=QUOTED-PRINTABLE:DSD/gelber Sack/Tonne ist eine Regelabfuhr, eine Anmeldung ist nicht erforderlich.
DTSTART:20260908
DTEND:20260909
END:VEVENT
BEGIN:VEVENT
UID:58178625-8624-4515-5451-000000010492
SUMMARY:DSD/gelber Sack/Tonne
DESCRIPTION;ENCODING=QUOTED-PRINTABLE:DSD/gelber Sack/Tonne ist eine Regelabfuhr, eine Anmeldung ist nicht erforderlich.
DTSTART:20260922
DTEND:20260923
END:VEVENT
BEGIN:VEVENT
UID:58178625-8624-4515-5451-000000010493
SUMMARY:DSD/gelber Sack/Tonne
DESCRIPTION;ENCODING=QUOTED-PRINTABLE:DSD/gelber Sack/Tonne ist eine Regelabfuhr, eine Anmeldung ist nicht erforderlich.
DTSTART:20261006
DTEND:20261007
END:VEVENT
BEGIN:VEVENT
UID:58178625-8624-4515-5451-000000010494
SUMMARY:DSD/gelber Sack/Tonne
DESCRIPTION;ENCODING=QUOTED-PRINTABLE:DSD/gelber Sack/Tonne ist eine Regelabfuhr, eine Anmeldung ist nicht erforderlich.
DTSTART:20261020
DTEND:20261021
END:VEVENT
BEGIN:VEVENT
UID:58178625-8624-4515-5451-000000010495
SUMMARY:DSD/gelber Sack/Tonne
DESCRIPTION;ENCODING=QUOTED-PRINTABLE:DSD/gelber Sack/Tonne ist eine Regelabfuhr, eine Anmeldung ist nicht erforderlich.
DTSTART:20261103
DTEND:20261104
END:VEVENT
BEGIN:VEVENT
UID:58178625-8624-4515-5451-000000010496
SUMMARY:DSD/gelber Sack/Tonne
DESCRIPTION;ENCODING=QUOTED-PRINTABLE:DSD/gelber Sack/Tonne ist eine Regelabfuhr, eine Anmeldung ist nicht erforderlich.
DTSTART:20261117
DTEND:20261118
END:VEVENT
BEGIN:VEVENT
UID:58178625-8624-4515-5451-000000010497
SUMMARY:DSD/gelber Sack/Tonne
DESCRIPTION;ENCODING=QUOTED-PRINTABLE:DSD/gelber Sack/Tonne ist eine Regelabfuhr, eine Anmeldung ist nicht erforderlich.
DTSTART:20261201
DTEND:20261202
END:VEVENT
BEGIN:VEVENT
UID:58178625-8624-4515-5451-000000010498
SUMMARY:DSD/gelber Sack/Tonne
DESCRIPTION;ENCODING=QUOTED-PRINTABLE:DSD/gelber Sack/Tonne ist eine Regelabfuhr, eine Anmeldung ist nicht erforderlich.
DTSTART:20261215
DTEND:20261216
END:VEVENT
BEGIN:VEVENT
UID:58178625-8624-4515-5451-000000010499
SUMMARY:DSD/gelber Sack/Tonne
DESCRIPTION;ENCODING=QUOTED-PRINTABLE:DSD/gelber Sack/Tonne ist eine Regelabfuhr, eine Anmeldung ist nicht erforderlich.
DTSTART:20261229
DTEND:20261230
END:VEVENT
BEGIN:VEVENT
UID:58178625-8624-4515-5451-000000010308
SUMMARY:Papier / Pappe
DESCRIPTION;ENCODING=QUOTED-PRINTABLE:Papier / Pappe ist eine Regelabfuhr, eine Anmeldung ist nicht erforderlich.
DTSTART:20260512
DTEND:20260513
END:VEVENT
BEGIN:VEVENT
UID:58178625-8624-4515-5451-000000010309
SUMMARY:Papier / Pappe
DESCRIPTION;ENCODING=QUOTED-PRINTABLE:Papier / Pappe ist eine Regelabfuhr, eine Anmeldung ist nicht erforderlich.
DTSTART:20260609
DTEND:20260610
END:VEVENT
BEGIN:VEVENT
UID:58178625-8624-4515-5451-000000010310
SUMMARY:Papier / Pappe
DESCRIPTION;ENCODING=QUOTED-PRINTABLE:Papier / Pappe ist eine Regelabfuhr, eine Anmeldung ist nicht erforderlich.
DTSTART:20260707
DTEND:20260708
END:VEVENT
BEGIN:VEVENT
UID:58178625-8624-4515-5451-000000010311
SUMMARY:Papier / Pappe
DESCRIPTION;ENCODING=QUOTED-PRINTABLE:Papier / Pappe ist eine Regelabfuhr, eine Anmeldung ist nicht erforderlich.
DTSTART:20260804
DTEND:20260805
END:VEVENT
BEGIN:VEVENT
UID:58178625-8624-4515-5451-000000010312
SUMMARY:Papier / Pappe
DESCRIPTION;ENCODING=QUOTED-PRINTABLE:Papier / Pappe ist eine Regelabfuhr, eine Anmeldung ist nicht erforderlich.
DTSTART:20260901
DTEND:20260902
END:VEVENT
BEGIN:VEVENT
UID:58178625-8624-4515-5451-000000010313
SUMMARY:Papier / Pappe
DESCRIPTION;ENCODING=QUOTED-PRINTABLE:Papier / Pappe ist eine Regelabfuhr, eine Anmeldung ist nicht erforderlich.
DTSTART:20260929
DTEND:20260930
END:VEVENT
BEGIN:VEVENT
UID:58178625-8624-4515-5451-000000010314
SUMMARY:Papier / Pappe
DESCRIPTION;ENCODING=QUOTED-PRINTABLE:Papier / Pappe ist eine Regelabfuhr, eine Anmeldung ist nicht erforderlich.
DTSTART:20261027
DTEND:20261028
END:VEVENT
BEGIN:VEVENT
UID:58178625-8624-4515-5451-000000010315
SUMMARY:Papier / Pappe
DESCRIPTION;ENCODING=QUOTED-PRINTABLE:Papier / Pappe ist eine Regelabfuhr, eine Anmeldung ist nicht erforderlich.
DTSTART:20261124
DTEND:20261125
END:VEVENT
BEGIN:VEVENT
UID:58178625-8624-4515-5451-000000010316
SUMMARY:Papier / Pappe
DESCRIPTION;ENCODING=QUOTED-PRINTABLE:Papier / Pappe ist eine Regelabfuhr, eine Anmeldung ist nicht erforderlich.
DTSTART:20261221
DTEND:20261222
END:VEVENT
BEGIN:VEVENT
UID:58178625-8624-4515-5451-000000010150
SUMMARY:Schadstoffe S1 (10-12 Uhr)
DESCRIPTION;ENCODING=QUOTED-PRINTABLE:Schadstoffe S1 (10-12 Uhr) ist eine Regelabfuhr, eine Anmeldung ist nicht erforderlich.
DTSTART:20260723
DTEND:20260724
END:VEVENT
BEGIN:VEVENT
UID:58178625-8624-4515-5451-000000010151
SUMMARY:Schadstoffe S1 (10-12 Uhr)
DESCRIPTION;ENCODING=QUOTED-PRINTABLE:Schadstoffe S1 (10-12 Uhr) ist eine Regelabfuhr, eine Anmeldung ist nicht erforderlich.
DTSTART:20261105
DTEND:20261106
END:VEVENT
BEGIN:VEVENT
UID:58178625-8624-4515-5451-000000010094
SUMMARY:Altholz
DESCRIPTION:Altholz ist ein anmeldepflichtiger Abfuhrtermin.\nDie Anmeldefrist für diesen Termin endet am 13.05.2026.\nAnmeldung zum Abfuhrtermin für die Straße "Apollmicke" unter der URL: http://olpe.abfuhrtermine.info/orders/add/date_id:10094/sorting_id:66/street_id:18
DTSTART:20260519
DTEND:20260520
END:VEVENT
BEGIN:VEVENT
UID:58178625-8624-4515-5451-000000010095
SUMMARY:Altholz
DESCRIPTION:Altholz ist ein anmeldepflichtiger Abfuhrtermin.\nDie Anmeldefrist für diesen Termin endet am 06.07.2026.\nAnmeldung zum Abfuhrtermin für die Straße "Apollmicke" unter der URL: http://olpe.abfuhrtermine.info/orders/add/date_id:10095/sorting_id:66/street_id:18
DTSTART:20260710
DTEND:20260711
END:VEVENT
BEGIN:VEVENT
UID:58178625-8624-4515-5451-000000010096
SUMMARY:Altholz
DESCRIPTION:Altholz ist ein anmeldepflichtiger Abfuhrtermin.\nDie Anmeldefrist für diesen Termin endet am 31.08.2026.\nAnmeldung zum Abfuhrtermin für die Straße "Apollmicke" unter der URL: http://olpe.abfuhrtermine.info/orders/add/date_id:10096/sorting_id:66/street_id:18
DTSTART:20260904
DTEND:20260905
END:VEVENT
BEGIN:VEVENT
UID:58178625-8624-4515-5451-000000010097
SUMMARY:Altholz
DESCRIPTION:Altholz ist ein anmeldepflichtiger Abfuhrtermin.\nDie Anmeldefrist für diesen Termin endet am 09.11.2026.\nAnmeldung zum Abfuhrtermin für die Straße "Apollmicke" unter der URL: http://olpe.abfuhrtermine.info/orders/add/date_id:10097/sorting_id:66/street_id:18
DTSTART:20261113
DTEND:20261114
END:VEVENT
BEGIN:VEVENT
UID:58178625-8624-4515-5451-000000010118
SUMMARY:Restsperrmüll
DESCRIPTION:Restsperrmüll ist ein anmeldepflichtiger Abfuhrtermin.\nDie Anmeldefrist für diesen Termin endet am 28.05.2026.\nAnmeldung zum Abfuhrtermin für die Straße "Apollmicke" unter der URL: http://olpe.abfuhrtermine.info/orders/add/date_id:10118/sorting_id:67/street_id:18
DTSTART:20260603
DTEND:20260604
END:VEVENT
BEGIN:VEVENT
UID:58178625-8624-4515-5451-000000010119
SUMMARY:Restsperrmüll
DESCRIPTION:Restsperrmüll ist ein anmeldepflichtiger Abfuhrtermin.\nDie Anmeldefrist für diesen Termin endet am 27.07.2026.\nAnmeldung zum Abfuhrtermin für die Straße "Apollmicke" unter der URL: http://olpe.abfuhrtermine.info/orders/add/date_id:10119/sorting_id:67/street_id:18
DTSTART:20260731
DTEND:20260801
END:VEVENT
BEGIN:VEVENT
UID:58178625-8624-4515-5451-000000010120
SUMMARY:Restsperrmüll
DESCRIPTION:Restsperrmüll ist ein anmeldepflichtiger Abfuhrtermin.\nDie Anmeldefrist für diesen Termin endet am 17.09.2026.\nAnmeldung zum Abfuhrtermin für die Straße "Apollmicke" unter der URL: http://olpe.abfuhrtermine.info/orders/add/date_id:10120/sorting_id:67/street_id:18
DTSTART:20260923
DTEND:20260924
END:VEVENT
BEGIN:VEVENT
UID:58178625-8624-4515-5451-000000010121
SUMMARY:Restsperrmüll
DESCRIPTION:Restsperrmüll ist ein anmeldepflichtiger Abfuhrtermin.\nDie Anmeldefrist für diesen Termin endet am 20.11.2026.\nAnmeldung zum Abfuhrtermin für die Straße "Apollmicke" unter der URL: http://olpe.abfuhrtermine.info/orders/add/date_id:10121/sorting_id:67/street_id:18
DTSTART:20261126
DTEND:20261127
END:VEVENT
BEGIN:VEVENT
UID:58178625-8624-4515-5451-000000010142
SUMMARY:Schrott/E-Schrott
DESCRIPTION:Schrott/E-Schrott ist ein anmeldepflichtiger Abfuhrtermin.\nDie Anmeldefrist für diesen Termin endet am 05.06.2026.\nAnmeldung zum Abfuhrtermin für die Straße "Apollmicke" unter der URL: http://olpe.abfuhrtermine.info/orders/add/date_id:10142/sorting_id:68/street_id:18
DTSTART:20260611
DTEND:20260612
END:VEVENT
BEGIN:VEVENT
UID:58178625-8624-4515-5451-000000010143
SUMMARY:Schrott/E-Schrott
DESCRIPTION:Schrott/E-Schrott ist ein anmeldepflichtiger Abfuhrtermin.\nDie Anmeldefrist für diesen Termin endet am 07.08.2026.\nAnmeldung zum Abfuhrtermin für die Straße "Apollmicke" unter der URL: http://olpe.abfuhrtermine.info/orders/add/date_id:10143/sorting_id:68/street_id:18
DTSTART:20260813
DTEND:20260814
END:VEVENT
BEGIN:VEVENT
UID:58178625-8624-4515-5451-000000010144
SUMMARY:Schrott/E-Schrott
DESCRIPTION:Schrott/E-Schrott ist ein anmeldepflichtiger Abfuhrtermin.\nDie Anmeldefrist für diesen Termin endet am 02.10.2026.\nAnmeldung zum Abfuhrtermin für die Straße "Apollmicke" unter der URL: http://olpe.abfuhrtermine.info/orders/add/date_id:10144/sorting_id:68/street_id:18
DTSTART:20261008
DTEND:20261009
END:VEVENT
BEGIN:VEVENT
UID:58178625-8624-4515-5451-000000010145
SUMMARY:Schrott/E-Schrott
DESCRIPTION:Schrott/E-Schrott ist ein anmeldepflichtiger Abfuhrtermin.\nDie Anmeldefrist für diesen Termin endet am 04.12.2026.\nAnmeldung zum Abfuhrtermin für die Straße "Apollmicke" unter der URL: http://olpe.abfuhrtermine.info/orders/add/date_id:10145/sorting_id:68/street_id:18
DTSTART:20261210
DTEND:20261211
END:VEVENT
END:VCALENDAR
